BEGIN:VCALENDAR
VERSION:2.0
PRODID:-//Arapahoe/Douglas Works! - ECPv6.15.19//NONSGML v1.0//EN
CALSCALE:GREGORIAN
METHOD:PUBLISH
X-WR-CALNAME:Arapahoe/Douglas Works!
X-ORIGINAL-URL:https://www.adworks.org
X-WR-CALDESC:Events for Arapahoe/Douglas Works!
REFRESH-INTERVAL;VALUE=DURATION:PT1H
X-Robots-Tag:noindex
X-PUBLISHED-TTL:PT1H
BEGIN:VTIMEZONE
TZID:America/Denver
BEGIN:DAYLIGHT
TZOFFSETFROM:-0700
TZOFFSETTO:-0600
TZNAME:MDT
DTSTART:20250309T090000
END:DAYLIGHT
BEGIN:STANDARD
TZOFFSETFROM:-0600
TZOFFSETTO:-0700
TZNAME:MST
DTSTART:20251102T080000
END:STANDARD
BEGIN:DAYLIGHT
TZOFFSETFROM:-0700
TZOFFSETTO:-0600
TZNAME:MDT
DTSTART:20260308T090000
END:DAYLIGHT
BEGIN:STANDARD
TZOFFSETFROM:-0600
TZOFFSETTO:-0700
TZNAME:MST
DTSTART:20261101T080000
END:STANDARD
BEGIN:DAYLIGHT
TZOFFSETFROM:-0700
TZOFFSETTO:-0600
TZNAME:MDT
DTSTART:20270314T090000
END:DAYLIGHT
BEGIN:STANDARD
TZOFFSETFROM:-0600
TZOFFSETTO:-0700
TZNAME:MST
DTSTART:20271107T080000
END:STANDARD
END:VTIMEZONE
BEGIN:VEVENT
DTSTART;TZID=America/Denver:20260401T090000
DTEND;TZID=America/Denver:20260401T230000
DTSTAMP:20260422T042444
CREATED:20260311T214123Z
LAST-MODIFIED:20260311T214123Z
UID:10011849-1775034000-1775084400@www.adworks.org
SUMMARY:Salary Negotiations (Virtual)
DESCRIPTION:Negotiation is an important component in increasing your salary earnings when landing a new position\, being promoted\, or after a performance review. Most employers are willing to negotiate salaries\, but most candidates will not attempt it because having that conversation can be uncomfortable. How much is too much to ask for? Can you negotiate things other than salary? This workshop will help provide answers to those tricky negotiation questions and more. \nRegister for this workshop on Zoom.
URL:https://www.adworks.org/event/salary-negotiations-virtual-4/
LOCATION:Virtual\, Virtual
CATEGORIES:Generations@Work,Job Seekers,Veterans,Workshops
END:VEVENT
BEGIN:VEVENT
DTSTART;TZID=America/Denver:20260401T093000
DTEND;TZID=America/Denver:20260401T103000
DTSTAMP:20260422T042444
CREATED:20250813T225446Z
LAST-MODIFIED:20250922T205801Z
UID:10010478-1775035800-1775039400@www.adworks.org
SUMMARY:Fair Chance Employment (In-Person) @ Castle Rock
DESCRIPTION:Join us to learn more about Colorado’s fair chance employment laws\, as well as tips on discussing your background and other helpful tools and strategies to assist you during your job search\, including the Federal Bonding Program and the Work Opportunity Tax Credit (WOTC). \n\n\n                \n                        \n                             \n                        \n                        FacebookThis field is for validation purposes and should be left unchanged.This field is hidden when viewing the formEvent DateRegister for this Event\n15 spots remaining for registration. Name(Required)\n                            \n                            \n                                                    \n                                                    First\n                                                \n                            \n                            \n                                                    \n                                                    Last\n                                                \n                            \n                        Phone(Required)Email(Required)\n                                \n                                    \n                                    Enter Email\n                                \n                                \n                                    \n                                    Confirm Email\n                                \n                                \n                            Are you registered in Connecting Colorado?(Required)\n			\n					\n					Yes\n			\n			\n					\n					No\n			\n			\n					\n					Unknown\n			Please click here to Register\, or to verify your registration at Connecting Colorado. Are you a Veteran?(Required)\n			\n					\n					Yes\n			\n			\n					\n					No\n			How did you hear about Arapahoe/Douglas Works! Workforce Center or our events and programs?(Required)Online searchReferral from another agency/organizationWord of mouthEmail marketingNewsCommunity EventOtherDo you require an Americans with Disabilities Act (ADA) or Language Assistance modification\, an accommodation\, or auxiliary aid? Please Note: Accommodations are not guaranteed and are subject to availability and reasonable effort.\n			\n					\n					Yes\n			\n			\n					\n					No\n			If you answered “yes” that you require a modification\, language assistance\, or auxiliary aid\, please email us your request at adworksinfo@arapahoegov.com or call us at 303.636.1160. (Upon receipt of request\, it may take up to 2 business days to meet your request.)Anti-SPAM Quiz(Required)Please type in the full name of the state where Arapahoe/Douglas Works! is located:The registration button will appear once the correct Anti-SPAM answer is entered.\n          \n            \n            \n            \n            \n            \n            \n            \n            \n            \n            \n            \n            \n            \n        \n                        \n                        \n		                \n		                \n\n 
URL:https://www.adworks.org/event/fair-chance-employment-in-person-castle-rock/2026-04-01/
LOCATION:Castle Rock – Sturm Campus\, 4500 Limelight Ave.\, Castle Rock\, CO\, 80109\, United States
CATEGORIES:Generations@Work,Job Seekers,Veterans,Workshops
END:VEVENT
BEGIN:VEVENT
DTSTART;TZID=America/Denver:20260401T093000
DTEND;TZID=America/Denver:20260401T123000
DTSTAMP:20260422T042444
CREATED:20260309T183219Z
LAST-MODIFIED:20260309T202233Z
UID:10011847-1775035800-1775046600@www.adworks.org
SUMMARY:Veterans and Spouses Only Networking Event (In Person)
DESCRIPTION:Please join us for a networking event!\nMeet employers with open positions and network with fellow veterans and spouses! \nScheduled employers: \nDouglas County School District\nECC\nAllosource\nRetail Odyssey\nAurora Community Services\nUSPS\nArapahoe County Government\nBMO\nKelly Education \n  \n\n                \n                        \n                             \n                        \n                        X/TwitterThis field is for validation purposes and should be left unchanged.This field is hidden when viewing the formEvent DateRegister for this EventName(Required)\n                            \n                            \n                                                    \n                                                    First\n                                                \n                            \n                            \n                                                    \n                                                    Last\n                                                \n                            \n                        Phone(Required)Email(Required)\n                                \n                                    \n                                    Enter Email\n                                \n                                \n                                    \n                                    Confirm Email\n                                \n                                \n                            Are you registered in Connecting Colorado?(Required)\n			\n					\n					Yes\n			\n			\n					\n					No\n			\n			\n					\n					Unknown\n			Please click here to Register\, or to verify your registration at Connecting Colorado. Are you a Veteran?(Required)\n			\n					\n					Yes\n			\n			\n					\n					No\n			Do you require an Americans with Disabilities Act (ADA) or Language Assistance modification\, an accommodation\, or auxiliary aid? Please Note: Accommodations are not guaranteed and are subject to availability and reasonable effort.\n			\n					\n					Yes\n			\n			\n					\n					No\n			If you answered “yes” that you require a modification\, language assistance\, or auxiliary aid\, please email us your request at adworksinfo@arapahoegov.com or call us at 303.636.1160. (Upon receipt of request\, it may take up to 2 business days to meet your request.)How did you hear about Arapahoe/Douglas Works! Workforce Center or our events and programs?(Required)Online searchReferral from another agency/organizationWord of mouthEmail marketingNewsCommunity EventOtherPlease tell us how you heard of us:Anti-SPAM Quiz(Required)Please type in the full name of the state where Arapahoe/Douglas Works! is located:The registration button will appear once the correct Anti-SPAM answer is entered.
URL:https://www.adworks.org/event/veterans-and-spouses-only-networking-event-in-person/
LOCATION:Arapahoe Board Room\, 6954 S. Lima St.\, Centennial\, CO\, 80112\, United States
CATEGORIES:Veterans
END:VEVENT
END:VCALENDAR