BEGIN:VCALENDAR
VERSION:2.0
PRODID:-//Arapahoe/Douglas Works! - ECPv6.15.19//NONSGML v1.0//EN
CALSCALE:GREGORIAN
METHOD:PUBLISH
X-WR-CALNAME:Arapahoe/Douglas Works!
X-ORIGINAL-URL:https://www.adworks.org
X-WR-CALDESC:Events for Arapahoe/Douglas Works!
REFRESH-INTERVAL;VALUE=DURATION:PT1H
X-Robots-Tag:noindex
X-PUBLISHED-TTL:PT1H
BEGIN:VTIMEZONE
TZID:America/Denver
BEGIN:DAYLIGHT
TZOFFSETFROM:-0700
TZOFFSETTO:-0600
TZNAME:MDT
DTSTART:20250309T090000
END:DAYLIGHT
BEGIN:STANDARD
TZOFFSETFROM:-0600
TZOFFSETTO:-0700
TZNAME:MST
DTSTART:20251102T080000
END:STANDARD
BEGIN:DAYLIGHT
TZOFFSETFROM:-0700
TZOFFSETTO:-0600
TZNAME:MDT
DTSTART:20260308T090000
END:DAYLIGHT
BEGIN:STANDARD
TZOFFSETFROM:-0600
TZOFFSETTO:-0700
TZNAME:MST
DTSTART:20261101T080000
END:STANDARD
BEGIN:DAYLIGHT
TZOFFSETFROM:-0700
TZOFFSETTO:-0600
TZNAME:MDT
DTSTART:20270314T090000
END:DAYLIGHT
BEGIN:STANDARD
TZOFFSETFROM:-0600
TZOFFSETTO:-0700
TZNAME:MST
DTSTART:20271107T080000
END:STANDARD
END:VTIMEZONE
BEGIN:VEVENT
DTSTART;TZID=America/Denver:20260402T090000
DTEND;TZID=America/Denver:20260402T110000
DTSTAMP:20260422T041747
CREATED:20260311T213353Z
LAST-MODIFIED:20260311T213353Z
UID:10011638-1775120400-1775127600@www.adworks.org
SUMMARY:Money Matters (In-Person) @ Aurora
DESCRIPTION:This workshop focuses on concepts of financial independence and planning\, including: \n\nTips and tricks to lower your expenses and increase your income\nHow to plan for your needs and wants while still building savings\nHow to create household income goals and plan to achieve them\nNew tools that can help you make the RIGHT plans for your financial future\n\n\n\n                \n                        \n                             \n                        \n                        X/TwitterThis field is for validation purposes and should be left unchanged.This field is hidden when viewing the formEvent DateRegister for this Event\n15 spots remaining for registration. Name(Required)\n                            \n                            \n                                                    \n                                                    First\n                                                \n                            \n                            \n                                                    \n                                                    Last\n                                                \n                            \n                        Phone(Required)Email(Required)\n                                \n                                    \n                                    Enter Email\n                                \n                                \n                                    \n                                    Confirm Email\n                                \n                                \n                            Are you registered in Connecting Colorado?(Required)\n			\n					\n					Yes\n			\n			\n					\n					No\n			\n			\n					\n					Unknown\n			Please click here to Register\, or to verify your registration at Connecting Colorado. Are you a Veteran?(Required)\n			\n					\n					Yes\n			\n			\n					\n					No\n			How did you hear about Arapahoe/Douglas Works! Workforce Center or our events and programs?(Required)Online searchReferral from another agency/organizationWord of mouthEmail marketingNewsCommunity EventOtherDo you require an Americans with Disabilities Act (ADA) or Language Assistance modification\, an accommodation\, or auxiliary aid? Please Note: Accommodations are not guaranteed and are subject to availability and reasonable effort.\n			\n					\n					Yes\n			\n			\n					\n					No\n			If you answered “yes” that you require a modification\, language assistance\, or auxiliary aid\, please email us your request at adworksinfo@arapahoegov.com or call us at 303.636.1160. (Upon receipt of request\, it may take up to 2 business days to meet your request.)Anti-SPAM Quiz(Required)Please type in the full name of the state where Arapahoe/Douglas Works! is located:The registration button will appear once the correct Anti-SPAM answer is entered.
URL:https://www.adworks.org/event/money-matters-in-person-aurora-3/
LOCATION:Aurora Workforce Center\, 15400 E. 14th Place\, Aurora\, CO\, 80011\, United States
CATEGORIES:Generations@Work,Job Seekers,Veterans,Workshops
END:VEVENT
BEGIN:VEVENT
DTSTART;TZID=America/Denver:20260402T103000
DTEND;TZID=America/Denver:20260402T120000
DTSTAMP:20260422T041747
CREATED:20260311T213632Z
LAST-MODIFIED:20260311T213632Z
UID:10011639-1775125800-1775131200@www.adworks.org
SUMMARY:Generations@Work! Job Seekers Networking Session (Virtual)
DESCRIPTION:Attend a session of the Job Seekers Network where you can connect with fellow job seekers to share valuable advice\, career opportunities\, and connections. \nRegister for session on Zoom.
URL:https://www.adworks.org/event/generationswork-job-seekers-networking-session-virtual-4/
LOCATION:Virtual\, Virtual
CATEGORIES:Generations@Work,Job Seekers,Veterans,Workshops
END:VEVENT
BEGIN:VEVENT
DTSTART;TZID=America/Denver:20260402T133000
DTEND;TZID=America/Denver:20260402T150000
DTSTAMP:20260422T041747
CREATED:20260311T214026Z
LAST-MODIFIED:20260311T214026Z
UID:10011644-1775136600-1775142000@www.adworks.org
SUMMARY:Generations@Work! Skills Lab: Great Answers to Tough Interview Questions
DESCRIPTION:A focused\, hands-on session designed to help participants translate their professional experience into clear\, confident\, and compelling interview responses. Attendees learn proven strategies to highlight strengths\, connect past achievements to employer needs\, and effectively answer challenging interview questions. \nRegister for this workshop on Zoom.
URL:https://www.adworks.org/event/generationswork-skills-lab-great-answers-to-tough-interview-questions/
LOCATION:Virtual\, Virtual
CATEGORIES:Generations@Work,Job Seekers,Veterans,Workshops
END:VEVENT
BEGIN:VEVENT
DTSTART;TZID=America/Denver:20260402T133000
DTEND;TZID=America/Denver:20260402T160000
DTSTAMP:20260422T041747
CREATED:20260317T132916Z
LAST-MODIFIED:20260317T132916Z
UID:10011862-1775136600-1775145600@www.adworks.org
SUMMARY:Community Hiring Event - (In-person) @ Castle Rock
DESCRIPTION:Join us for a free Community Hiring Event hosted in collaboration with Arapahoe Community College\, A/D Works!\, Douglas County School District\, and Colorado Early Colleges. This event is open to college students\, community members\, and high school students interested in exploring a wide range of career opportunities. Attendees will have the chance to connect directly with employers hiring for full-time\, part-time\, and summer roles. Opportunities span multiple industries including healthcare\, construction\, education\, government\, fire services\, business\, and more. \nEvent Flyer \nGet Registered!
URL:https://www.adworks.org/event/community-hiring-event-in-person-castle-rock/
LOCATION:Castle Rock – Sturm Campus\, 4500 Limelight Ave.\, Castle Rock\, CO\, 80109\, United States
CATEGORIES:Generations@Work,Hiring Events,Job Seekers,Veterans
END:VEVENT
BEGIN:VEVENT
DTSTART;TZID=America/Denver:20260402T140000
DTEND;TZID=America/Denver:20260402T150000
DTSTAMP:20260422T041747
CREATED:20260311T213907Z
LAST-MODIFIED:20260311T213907Z
UID:10011651-1775138400-1775142000@www.adworks.org
SUMMARY:Resumes (In-Person) @ Aurora
DESCRIPTION:Are you looking for a new job? Are you hoping to advance your career? You may need to refresh your resume! Our experienced team is here to help guide you through this process. This foundational workshop will provide a framework for creating an effective\, targeted resume and give you tips to improve the one you already have. You will learn essential information to help develop a resume that will make you stand out in a competitive job market. \n\n                \n                        \n                             \n                        \n                        LinkedInThis field is for validation purposes and should be left unchanged.This field is hidden when viewing the formEvent DateRegister for this Event\n30 spots remaining for registration. Name(Required)\n                            \n                            \n                                                    \n                                                    First\n                                                \n                            \n                            \n                                                    \n                                                    Last\n                                                \n                            \n                        Phone(Required)Email(Required)\n                                \n                                    \n                                    Enter Email\n                                \n                                \n                                    \n                                    Confirm Email\n                                \n                                \n                            Are you registered in Connecting Colorado?(Required)\n			\n					\n					Yes\n			\n			\n					\n					No\n			\n			\n					\n					Unknown\n			Please click here to Register\, or to verify your registration at Connecting Colorado. Are you a Veteran?(Required)\n			\n					\n					Yes\n			\n			\n					\n					No\n			Do you require an Americans with Disabilities Act (ADA) or Language Assistance modification\, an accommodation\, or auxiliary aid? Please Note: Accommodations are not guaranteed and are subject to availability and reasonable effort.\n			\n					\n					Yes\n			\n			\n					\n					No\n			If you answered “yes” that you require a modification\, language assistance\, or auxiliary aid\, please email us your request at adworksinfo@arapahoegov.com or call us at 303.636.1160. (Upon receipt of request\, it may take up to 2 business days to meet your request.)How did you hear about Arapahoe/Douglas Works! Workforce Center or our events and programs?(Required)Online searchReferral from another agency/organizationWord of mouthEmail marketingNewsCommunity EventOtherPlease tell us how you heard of us:Anti-SPAM Quiz(Required)Please type in the full name of the state where Arapahoe/Douglas Works! is located:The registration button will appear once the correct Anti-SPAM answer is entered.
URL:https://www.adworks.org/event/resumes-in-person-aurora-3/
LOCATION:Aurora Workforce Center\, 15400 E. 14th Place\, Aurora\, CO\, 80011\, United States
CATEGORIES:Generations@Work,Job Seekers,Veterans,Workshops
END:VEVENT
END:VCALENDAR