BEGIN:VCALENDAR
VERSION:2.0
PRODID:-//Arapahoe/Douglas Works! - ECPv6.15.19//NONSGML v1.0//EN
CALSCALE:GREGORIAN
METHOD:PUBLISH
X-ORIGINAL-URL:https://www.adworks.org
X-WR-CALDESC:Events for Arapahoe/Douglas Works!
REFRESH-INTERVAL;VALUE=DURATION:PT1H
X-Robots-Tag:noindex
X-PUBLISHED-TTL:PT1H
BEGIN:VTIMEZONE
TZID:America/Denver
BEGIN:DAYLIGHT
TZOFFSETFROM:-0700
TZOFFSETTO:-0600
TZNAME:MDT
DTSTART:20250309T090000
END:DAYLIGHT
BEGIN:STANDARD
TZOFFSETFROM:-0600
TZOFFSETTO:-0700
TZNAME:MST
DTSTART:20251102T080000
END:STANDARD
BEGIN:DAYLIGHT
TZOFFSETFROM:-0700
TZOFFSETTO:-0600
TZNAME:MDT
DTSTART:20260308T090000
END:DAYLIGHT
BEGIN:STANDARD
TZOFFSETFROM:-0600
TZOFFSETTO:-0700
TZNAME:MST
DTSTART:20261101T080000
END:STANDARD
BEGIN:DAYLIGHT
TZOFFSETFROM:-0700
TZOFFSETTO:-0600
TZNAME:MDT
DTSTART:20270314T090000
END:DAYLIGHT
BEGIN:STANDARD
TZOFFSETFROM:-0600
TZOFFSETTO:-0700
TZNAME:MST
DTSTART:20271107T080000
END:STANDARD
END:VTIMEZONE
BEGIN:VEVENT
DTSTART;TZID=America/Denver:20260417T090000
DTEND;TZID=America/Denver:20260417T100000
DTSTAMP:20260420T075856
CREATED:20251215T162022Z
LAST-MODIFIED:20251215T162022Z
UID:10011281-1776416400-1776420000@www.adworks.org
SUMMARY:Spoons and Self-Care with AllHealth
DESCRIPTION:Spoon theory\, developed from a concept created by Christine Miserandino\, helps us reflect on how we choose to go about our day and set priorities. As life changes\, our priorities and the number of “spoons” we have may change as well. Self-care grows with us as we change and move through the world. With this mindset\, we can identify the areas of life that make us feel most fulfilled and that we should direct our energy towards. \nRegister for this workshop on Zoom.
URL:https://www.adworks.org/event/spoons-and-self-care-with-allhealth/
LOCATION:Virtual\, Virtual
CATEGORIES:Generations@Work,Job Seekers,Veterans,Workshops
END:VEVENT
BEGIN:VEVENT
DTSTART;TZID=America/Denver:20260417T100000
DTEND;TZID=America/Denver:20260417T110000
DTSTAMP:20260420T075856
CREATED:20260311T213248Z
LAST-MODIFIED:20260311T213248Z
UID:10011631-1776420000-1776423600@www.adworks.org
SUMMARY:Resumes (Virtual)
DESCRIPTION:Are you looking for a new job? Are you hoping to advance your career? You may need to refresh your resume! Our experienced team is here to help guide you through this process. This foundational workshop will provide a framework for creating an effective\, targeted resume and give you tips to improve the one you already have. You will learn essential information to help develop a resume that will make you stand out in a competitive job market. \nTo attend this workshop please register in Zoom. \n 
URL:https://www.adworks.org/event/resumes-virtual-9/
LOCATION:Virtual\, Virtual
CATEGORIES:Generations@Work,Job Seekers,Veterans,Workshops
END:VEVENT
BEGIN:VEVENT
DTSTART;TZID=America/Denver:20260417T140000
DTEND;TZID=America/Denver:20260417T153000
DTSTAMP:20260420T075856
CREATED:20260323T205313Z
LAST-MODIFIED:20260323T205313Z
UID:10011882-1776434400-1776439800@www.adworks.org
SUMMARY:Rapport and Motivation: Getting What You Want (and How to Do It)
DESCRIPTION:Presented by the AARP Foundation Senior Community Service Employment Program\nStep into a workshop designed to boost your confidence\, sharpen your communication\, and help you get the results you’re aiming for in your job search. You’ll learn how to build genuine rapport with employers\, stay motivated through challenges\, and clearly express what you need to succeed. If you’re ready to take more control of your career journey and make every interaction count\, this session will give you the tools to do it. \n\n\n                \n                        \n                             \n                        \n                        EmailThis field is for validation purposes and should be left unchanged.This field is hidden when viewing the formEvent DateRegister for this Event\n30 spots remaining for registration. Name(Required)\n                            \n                            \n                                                    \n                                                    First\n                                                \n                            \n                            \n                                                    \n                                                    Last\n                                                \n                            \n                        Phone(Required)Email(Required)\n                                \n                                    \n                                    Enter Email\n                                \n                                \n                                    \n                                    Confirm Email\n                                \n                                \n                            Are you registered in Connecting Colorado?(Required)\n			\n					\n					Yes\n			\n			\n					\n					No\n			\n			\n					\n					Unknown\n			Please click here to Register\, or to verify your registration at Connecting Colorado. Are you a Veteran?(Required)\n			\n					\n					Yes\n			\n			\n					\n					No\n			Do you require an Americans with Disabilities Act (ADA) or Language Assistance modification\, an accommodation\, or auxiliary aid? Please Note: Accommodations are not guaranteed and are subject to availability and reasonable effort.\n			\n					\n					Yes\n			\n			\n					\n					No\n			If you answered “yes” that you require a modification\, language assistance\, or auxiliary aid\, please email us your request at adworksinfo@arapahoegov.com or call us at 303.636.1160. (Upon receipt of request\, it may take up to 2 business days to meet your request.)How did you hear about Arapahoe/Douglas Works! Workforce Center or our events and programs?(Required)Online searchReferral from another agency/organizationWord of mouthEmail marketingNewsCommunity EventOtherPlease tell us how you heard of us:Anti-SPAM Quiz(Required)Please type in the full name of the state where Arapahoe/Douglas Works! is located:The registration button will appear once the correct Anti-SPAM answer is entered.
URL:https://www.adworks.org/event/rapport-and-motivation-getting-what-you-want-and-how-to-do-it-3/
LOCATION:Centennial Workforce Center\, 6974 S. Lima St.\, Centennial\, CO\, 80112\, United States
CATEGORIES:Generations@Work,Job Seekers,Veterans,Workshops
END:VEVENT
END:VCALENDAR