BEGIN:VCALENDAR
VERSION:2.0
PRODID:-//Arapahoe/Douglas Works! - ECPv6.15.19//NONSGML v1.0//EN
CALSCALE:GREGORIAN
METHOD:PUBLISH
X-WR-CALNAME:Arapahoe/Douglas Works!
X-ORIGINAL-URL:https://www.adworks.org
X-WR-CALDESC:Events for Arapahoe/Douglas Works!
REFRESH-INTERVAL;VALUE=DURATION:PT1H
X-Robots-Tag:noindex
X-PUBLISHED-TTL:PT1H
BEGIN:VTIMEZONE
TZID:America/Denver
BEGIN:DAYLIGHT
TZOFFSETFROM:-0700
TZOFFSETTO:-0600
TZNAME:MDT
DTSTART:20250309T090000
END:DAYLIGHT
BEGIN:STANDARD
TZOFFSETFROM:-0600
TZOFFSETTO:-0700
TZNAME:MST
DTSTART:20251102T080000
END:STANDARD
BEGIN:DAYLIGHT
TZOFFSETFROM:-0700
TZOFFSETTO:-0600
TZNAME:MDT
DTSTART:20260308T090000
END:DAYLIGHT
BEGIN:STANDARD
TZOFFSETFROM:-0600
TZOFFSETTO:-0700
TZNAME:MST
DTSTART:20261101T080000
END:STANDARD
BEGIN:DAYLIGHT
TZOFFSETFROM:-0700
TZOFFSETTO:-0600
TZNAME:MDT
DTSTART:20270314T090000
END:DAYLIGHT
BEGIN:STANDARD
TZOFFSETFROM:-0600
TZOFFSETTO:-0700
TZNAME:MST
DTSTART:20271107T080000
END:STANDARD
END:VTIMEZONE
BEGIN:VEVENT
DTSTART;TZID=America/Denver:20260421T090000
DTEND;TZID=America/Denver:20260421T103000
DTSTAMP:20260420T062926
CREATED:20260320T162206Z
LAST-MODIFIED:20260320T162206Z
UID:10011881-1776762000-1776767400@www.adworks.org
SUMMARY:Real Pathways That Work: Blind Institute of Technology’s Registered Apprenticeship Program Experience (Virtual)
DESCRIPTION:Join BIT for a National Apprenticeship Week webinar focused on how Registered Apprenticeship Programs can create real\, sustainable career pathways for individuals with disabilities. In this session\, we’ll share an overview of BIT’s mission\, walk through how our Registered Apprenticeship Program works\, and highlight how Disability Innovation Fund (DIF) support from the U.S. Department of Education helps remove barriers to employment. \nThe BIT model is designed to move individuals from quality pre-apprenticeship through our BIT Academy\, where participants build job-ready skills through programs such as Salesforce Administrator and Digital Accessibility Analyst\, into our national Registered Apprenticeship Program\, and ultimately into competitive integrated employment. You’ll also hear directly from BIT apprentices\, who will share their experiences navigating the program and building meaningful careers. \nWe’ll close with next steps for attendees who want to get involved – whether you’re an employer\, workforce partner\, organization\, or an individual exploring training and apprenticeship opportunities. And we’ll definitely leave time for questions and discussion! \nAmerican Sign Language (ASL) interpretation and closed captions will be provided. If you require additional accommodations\, please submit your request in writing no later than seven days prior to the webinar. \nRegister for the webinar. 
URL:https://www.adworks.org/event/real-pathways-that-work-blind-institute-of-technologys-registered-apprenticeship-program-experience-virtual/
LOCATION:Virtual\, Virtual
CATEGORIES:Generations@Work,Job Seekers,Veterans
END:VEVENT
BEGIN:VEVENT
DTSTART;TZID=America/Denver:20260421T090000
DTEND;TZID=America/Denver:20260421T110000
DTSTAMP:20260420T062926
CREATED:20250417T171303Z
LAST-MODIFIED:20250624T151612Z
UID:10009740-1776762000-1776769200@www.adworks.org
SUMMARY:Taller de Entrevista (En Persona @ Aurora)
DESCRIPTION:TALLERES en ESPAÑOL \nParticipa en el taller de entrevista para desarrollar su confianza y estrategias para impresionar a empleadores. \nRegístrese al Taller \n\n\n                \n                        \n                             \n                        \n                        FacebookThis field is for validation purposes and should be left unchanged.This field is hidden when viewing the formEvent DateRegister for this Event\n30 spots remaining for registration. Name(Required)\n                            \n                            \n                                                    \n                                                    First\n                                                \n                            \n                            \n                                                    \n                                                    Last\n                                                \n                            \n                        Phone(Required)Email(Required)\n                                \n                                    \n                                    Enter Email\n                                \n                                \n                                    \n                                    Confirm Email\n                                \n                                \n                            Are you registered in Connecting Colorado?(Required)\n			\n					\n					Yes\n			\n			\n					\n					No\n			\n			\n					\n					Unknown\n			Please click here to Register\, or to verify your registration at Connecting Colorado. Are you a Veteran?(Required)\n			\n					\n					Yes\n			\n			\n					\n					No\n			Do you require an Americans with Disabilities Act (ADA) or Language Assistance modification\, an accommodation\, or auxiliary aid? Please Note: Accommodations are not guaranteed and are subject to availability and reasonable effort.\n			\n					\n					Yes\n			\n			\n					\n					No\n			If you answered “yes” that you require a modification\, language assistance\, or auxiliary aid\, please email us your request at adworksinfo@arapahoegov.com or call us at 303.636.1160. (Upon receipt of request\, it may take up to 2 business days to meet your request.)How did you hear about Arapahoe/Douglas Works! Workforce Center or our events and programs?(Required)Online searchReferral from another agency/organizationWord of mouthEmail marketingNewsCommunity EventOtherPlease tell us how you heard of us:Anti-SPAM Quiz(Required)Please type in the full name of the state where Arapahoe/Douglas Works! is located:The registration button will appear once the correct Anti-SPAM answer is entered.
URL:https://www.adworks.org/event/taller-de-entrevista-en-persona-aurora/2026-04-21/
LOCATION:Aurora Workforce Center\, 15400 E. 14th Place\, Aurora\, CO\, 80011\, United States
CATEGORIES:Generations@Work,Job Seekers,Veterans,Workshops
END:VEVENT
BEGIN:VEVENT
DTSTART;TZID=America/Denver:20260421T090000
DTEND;TZID=America/Denver:20260421T110000
DTSTAMP:20260420T062926
CREATED:20260312T214332Z
LAST-MODIFIED:20260312T214332Z
UID:10011852-1776762000-1776769200@www.adworks.org
SUMMARY:LinkedIn (In-Person) @ Centennial
DESCRIPTION:LinkedIn is a professional social media website that is helpful for networking and job searching. But many people don’t optimize this tool to its full potential. This workshop will provide a basic overview of how to build your profile\, make connections\, find jobs\, follow companies\, and grow your professional network. \n\n                \n                        \n                             \n                        \n                        CommentsThis field is for validation purposes and should be left unchanged.This field is hidden when viewing the formEvent DateRegister for this Event\n30 spots remaining for registration. Name(Required)\n                            \n                            \n                                                    \n                                                    First\n                                                \n                            \n                            \n                                                    \n                                                    Last\n                                                \n                            \n                        Phone(Required)Email(Required)\n                                \n                                    \n                                    Enter Email\n                                \n                                \n                                    \n                                    Confirm Email\n                                \n                                \n                            Are you registered in Connecting Colorado?(Required)\n			\n					\n					Yes\n			\n			\n					\n					No\n			\n			\n					\n					Unknown\n			Please click here to Register\, or to verify your registration at Connecting Colorado. Are you a Veteran?(Required)\n			\n					\n					Yes\n			\n			\n					\n					No\n			Do you require an Americans with Disabilities Act (ADA) or Language Assistance modification\, an accommodation\, or auxiliary aid? Please Note: Accommodations are not guaranteed and are subject to availability and reasonable effort.\n			\n					\n					Yes\n			\n			\n					\n					No\n			If you answered “yes” that you require a modification\, language assistance\, or auxiliary aid\, please email us your request at adworksinfo@arapahoegov.com or call us at 303.636.1160. (Upon receipt of request\, it may take up to 2 business days to meet your request.)How did you hear about Arapahoe/Douglas Works! Workforce Center or our events and programs?(Required)Online searchReferral from another agency/organizationWord of mouthEmail marketingNewsCommunity EventOtherPlease tell us how you heard of us:Anti-SPAM Quiz(Required)Please type in the full name of the state where Arapahoe/Douglas Works! is located:The registration button will appear once the correct Anti-SPAM answer is entered.
URL:https://www.adworks.org/event/linkedin-in-person-centennial-4/
LOCATION:Centennial Workforce Center\, 6974 S. Lima St.\, Centennial\, CO\, 80112\, United States
CATEGORIES:Generations@Work,Job Seekers,Veterans,Workshops
END:VEVENT
BEGIN:VEVENT
DTSTART;TZID=America/Denver:20260421T090000
DTEND;TZID=America/Denver:20260421T123000
DTSTAMP:20260420T062926
CREATED:20260316T180259Z
LAST-MODIFIED:20260316T180259Z
UID:10011853-1776762000-1776774600@www.adworks.org
SUMMARY:Skilled Trades Hiring Event
DESCRIPTION:Your Construction Career Start Here! Skilled Trades Hiring Event\nIn partnership with the Colorado Community College System (CCCS)\, Project SCALE is hosting its 2nd annual Construction Careers Hiring Event! \nProject SCALE (Scaling Construction Access for Learners & Earners) is an innovative\, employer-led construction initiative designed to help fill 30\,000 construction and skilled trades jobs by 2030. \nThis event is focused on connecting Colorado’s homegrown talent with in-demand career opportunities in the construction trades. Our goal is to provide participants with the chance to explore and apply for roles or continuing education programs in HVAC\, carpentry\, welding\, plumbing\, and electrical work. \nTuesday\, April 21st\, 2026\n9:00am-12:30pm \nCCCS Office\n1061 Akron Way\nBuilding 697\nDenver\, CO \nEvent hosted by Project Scale \nPlease find additional information and register at: https://docs.google.com/forms/d/e/1FAIpQLSdh49hBX6NnLypTc8uQqs5EUvTH0aA6ZS5oAiYVb3g36hwMXA/viewform
URL:https://www.adworks.org/event/skilled-trades-hiring-event/
LOCATION:CO
CATEGORIES:Generations@Work,Hiring Events,Job Seekers,Veterans
END:VEVENT
BEGIN:VEVENT
DTSTART;TZID=America/Denver:20260421T103000
DTEND;TZID=America/Denver:20260421T120000
DTSTAMP:20260420T062926
CREATED:20260311T213718Z
LAST-MODIFIED:20260311T213718Z
UID:10011647-1776767400-1776772800@www.adworks.org
SUMMARY:Generations@Work! Overcoming Job Loss (Virtual)
DESCRIPTION:Everyone processes the loss of a job differently\, but you don’t have to do it alone. This workshop focuses on practical skills to manage strong emotions\, practice self-care\, and develop self-empowerment strategies to not only survive job loss\, but also to thrive in the future ahead. \nRegister for this workshop via Zoom. \n  \n 
URL:https://www.adworks.org/event/generationswork-overcoming-job-loss-virtual-2/
LOCATION:Virtual\, Virtual
CATEGORIES:Generations@Work,Job Seekers,Veterans,Workshops
END:VEVENT
BEGIN:VEVENT
DTSTART;TZID=America/Denver:20260421T133000
DTEND;TZID=America/Denver:20260421T153000
DTSTAMP:20260420T062926
CREATED:20250813T225034Z
LAST-MODIFIED:20250813T225034Z
UID:10010454-1776778200-1776785400@www.adworks.org
SUMMARY:Technology and Job Search (In-Person) @ Castle Rock
DESCRIPTION:Empower yourself with essential tech skills like ChatGPT and other software tools. Gain an edge in your job search through enhanced resumes\, improved interview performance\, and a targeted approach aligned with your dream career. \n\n                \n                        \n                             \n                        \n                        FacebookThis field is for validation purposes and should be left unchanged.This field is hidden when viewing the formEvent DateRegister for this Event\n15 spots remaining for registration. Name(Required)\n                            \n                            \n                                                    \n                                                    First\n                                                \n                            \n                            \n                                                    \n                                                    Last\n                                                \n                            \n                        Phone(Required)Email(Required)\n                                \n                                    \n                                    Enter Email\n                                \n                                \n                                    \n                                    Confirm Email\n                                \n                                \n                            Are you registered in Connecting Colorado?(Required)\n			\n					\n					Yes\n			\n			\n					\n					No\n			\n			\n					\n					Unknown\n			Please click here to Register\, or to verify your registration at Connecting Colorado. Are you a Veteran?(Required)\n			\n					\n					Yes\n			\n			\n					\n					No\n			How did you hear about Arapahoe/Douglas Works! Workforce Center or our events and programs?(Required)Online searchReferral from another agency/organizationWord of mouthEmail marketingNewsCommunity EventOtherDo you require an Americans with Disabilities Act (ADA) or Language Assistance modification\, an accommodation\, or auxiliary aid? Please Note: Accommodations are not guaranteed and are subject to availability and reasonable effort.\n			\n					\n					Yes\n			\n			\n					\n					No\n			If you answered “yes” that you require a modification\, language assistance\, or auxiliary aid\, please email us your request at adworksinfo@arapahoegov.com or call us at 303.636.1160. (Upon receipt of request\, it may take up to 2 business days to meet your request.)Anti-SPAM Quiz(Required)Please type in the full name of the state where Arapahoe/Douglas Works! is located:The registration button will appear once the correct Anti-SPAM answer is entered.\n          \n            \n            \n            \n            \n            \n            \n            \n            \n            \n            \n            \n            \n            \n        \n                        \n                        \n		                \n		                \n\n 
URL:https://www.adworks.org/event/technology-and-job-search-in-person-castle-rock-6/2026-04-21/
LOCATION:Castle Rock – Sturm Campus\, 4500 Limelight Ave.\, Castle Rock\, CO\, 80109\, United States
CATEGORIES:Generations@Work,Job Seekers,Veterans,Workshops
END:VEVENT
BEGIN:VEVENT
DTSTART;TZID=America/Denver:20260421T133000
DTEND;TZID=America/Denver:20260421T153000
DTSTAMP:20260420T062926
CREATED:20260409T160317Z
LAST-MODIFIED:20260409T160317Z
UID:10012041-1776778200-1776785400@www.adworks.org
SUMMARY:Hiring Event - ESS (In-Person) @ Centennial
DESCRIPTION:Join us for an in-person hiring event featuring ESS!\nAs the nation’s largest education personnel and management company\, ESS provides qualified candidates like you a fulfilling career in education and the opportunity to support schools in your local community. \nNow Hiring:\n– Substitute teachers\n– Support staff\n– Bus aides\n– Custodians \nRegister for this hiring event on Connecting Colorado.
URL:https://www.adworks.org/event/hiring-event-ess-in-person-centennial/
LOCATION:CO
CATEGORIES:Generations@Work,Hiring Events,Job Seekers,Veterans
END:VEVENT
END:VCALENDAR