BEGIN:VCALENDAR
VERSION:2.0
PRODID:-//Arapahoe/Douglas Works! - ECPv6.15.20//NONSGML v1.0//EN
CALSCALE:GREGORIAN
METHOD:PUBLISH
X-WR-CALNAME:Arapahoe/Douglas Works!
X-ORIGINAL-URL:https://www.adworks.org
X-WR-CALDESC:Events for Arapahoe/Douglas Works!
REFRESH-INTERVAL;VALUE=DURATION:PT1H
X-Robots-Tag:noindex
X-PUBLISHED-TTL:PT1H
BEGIN:VTIMEZONE
TZID:America/Denver
BEGIN:DAYLIGHT
TZOFFSETFROM:-0700
TZOFFSETTO:-0600
TZNAME:MDT
DTSTART:20250309T090000
END:DAYLIGHT
BEGIN:STANDARD
TZOFFSETFROM:-0600
TZOFFSETTO:-0700
TZNAME:MST
DTSTART:20251102T080000
END:STANDARD
BEGIN:DAYLIGHT
TZOFFSETFROM:-0700
TZOFFSETTO:-0600
TZNAME:MDT
DTSTART:20260308T090000
END:DAYLIGHT
BEGIN:STANDARD
TZOFFSETFROM:-0600
TZOFFSETTO:-0700
TZNAME:MST
DTSTART:20261101T080000
END:STANDARD
BEGIN:DAYLIGHT
TZOFFSETFROM:-0700
TZOFFSETTO:-0600
TZNAME:MDT
DTSTART:20270314T090000
END:DAYLIGHT
BEGIN:STANDARD
TZOFFSETFROM:-0600
TZOFFSETTO:-0700
TZNAME:MST
DTSTART:20271107T080000
END:STANDARD
END:VTIMEZONE
BEGIN:VEVENT
DTSTART;TZID=America/Denver:20260423T090000
DTEND;TZID=America/Denver:20260423T100000
DTSTAMP:20260424T043939
CREATED:20260311T213917Z
LAST-MODIFIED:20260311T213917Z
UID:10011652-1776934800-1776938400@www.adworks.org
SUMMARY:Resumes (In-Person) @ Aurora
DESCRIPTION:Are you looking for a new job? Are you hoping to advance your career? You may need to refresh your resume! Our experienced team is here to help guide you through this process. This foundational workshop will provide a framework for creating an effective\, targeted resume and give you tips to improve the one you already have. You will learn essential information to help develop a resume that will make you stand out in a competitive job market. \n\n\n                \n                        \n                             \n                        \n                        LinkedInThis field is for validation purposes and should be left unchanged.This field is hidden when viewing the formEvent DateRegister for this Event\n30 spots remaining for registration. Name(Required)\n                            \n                            \n                                                    \n                                                    First\n                                                \n                            \n                            \n                                                    \n                                                    Last\n                                                \n                            \n                        Phone(Required)Email(Required)\n                                \n                                    \n                                    Enter Email\n                                \n                                \n                                    \n                                    Confirm Email\n                                \n                                \n                            Are you registered in Connecting Colorado?(Required)\n			\n					\n					Yes\n			\n			\n					\n					No\n			\n			\n					\n					Unknown\n			Please click here to Register\, or to verify your registration at Connecting Colorado. Are you a Veteran?(Required)\n			\n					\n					Yes\n			\n			\n					\n					No\n			Do you require an Americans with Disabilities Act (ADA) or Language Assistance modification\, an accommodation\, or auxiliary aid? Please Note: Accommodations are not guaranteed and are subject to availability and reasonable effort.\n			\n					\n					Yes\n			\n			\n					\n					No\n			If you answered “yes” that you require a modification\, language assistance\, or auxiliary aid\, please email us your request at adworksinfo@arapahoegov.com or call us at 303.636.1160. (Upon receipt of request\, it may take up to 2 business days to meet your request.)How did you hear about Arapahoe/Douglas Works! Workforce Center or our events and programs?(Required)Online searchReferral from another agency/organizationWord of mouthEmail marketingNewsCommunity EventOtherPlease tell us how you heard of us:Anti-SPAM Quiz(Required)Please type in the full name of the state where Arapahoe/Douglas Works! is located:The registration button will appear once the correct Anti-SPAM answer is entered.
URL:https://www.adworks.org/event/resumes-in-person-aurora-8/
LOCATION:Aurora Workforce Center\, 15400 E. 14th Place\, Aurora\, CO\, 80011\, United States
CATEGORIES:Generations@Work,Job Seekers,Veterans,Workshops
END:VEVENT
BEGIN:VEVENT
DTSTART;TZID=America/Denver:20260423T100000
DTEND;TZID=America/Denver:20260423T120000
DTSTAMP:20260424T043939
CREATED:20251208T214018Z
LAST-MODIFIED:20260311T222112Z
UID:10011331-1776938400-1776945600@www.adworks.org
SUMMARY:Walk-In Hiring Event - Aurora Public Schools
DESCRIPTION:Join the Aurora Public Schools Team!\nLooking for inspiring work? Aurora Public Schools will be in the Aurora CentrePoint Lobby every fourth so you can discover your path to success through opportunities with our school district. \nNow hiring: Educators\, counselors\, nurses\, administrative and professional personnel\, custodial\, nutrition services\, transportation mechanics and drivers\, custodial staff\, interns\, and more. \nView Open Positions
URL:https://www.adworks.org/event/walk-in-hiring-event-aurora-public-schools/2026-04-23/
LOCATION:Aurora CentrePoint Plaza\, 14980 E. Alameda\, Aurora\, CO\, 80012\, United States
CATEGORIES:Generations@Work,Hiring Events,Job Seekers,Veterans
END:VEVENT
BEGIN:VEVENT
DTSTART;TZID=America/Denver:20260423T103000
DTEND;TZID=America/Denver:20260423T120000
DTSTAMP:20260424T043939
CREATED:20260311T213647Z
LAST-MODIFIED:20260311T213647Z
UID:10011642-1776940200-1776945600@www.adworks.org
SUMMARY:Generations@Work! Job Seekers Networking Session (Virtual)
DESCRIPTION:Attend a session of the Job Seekers Network where you can connect with fellow job seekers to share valuable advice\, career opportunities\, and connections. \nRegister for session on Zoom.
URL:https://www.adworks.org/event/generationswork-job-seekers-networking-session-virtual-6/
LOCATION:Virtual\, Virtual
CATEGORIES:Generations@Work,Job Seekers,Veterans,Workshops
END:VEVENT
BEGIN:VEVENT
DTSTART;TZID=America/Denver:20260423T133000
DTEND;TZID=America/Denver:20260423T150000
DTSTAMP:20260424T043939
CREATED:20260311T213740Z
LAST-MODIFIED:20260311T213740Z
UID:10011648-1776951000-1776956400@www.adworks.org
SUMMARY:Generations@Work! Positive Psychology (Virtual)
DESCRIPTION:You have a lot to offer to the job market. It can be hard to build yourself up when after experiencing rejection or feelings of defeat. This workshop is designed to help you find the positives in your personal journey where we discuss thoughts\, feelings\, and behaviors\, focusing on strengths instead of weaknesses. Discover how to develop new skills and gain an understanding of how thinking directly influences success. \nRegister for this workshop via Zoom.
URL:https://www.adworks.org/event/generationswork-positive-psychology-virtual/
LOCATION:Virtual\, Virtual
CATEGORIES:Generations@Work,Job Seekers,Veterans,Workshops
END:VEVENT
END:VCALENDAR