BEGIN:VCALENDAR
VERSION:2.0
PRODID:-//Arapahoe/Douglas Works! - ECPv6.15.19//NONSGML v1.0//EN
CALSCALE:GREGORIAN
METHOD:PUBLISH
X-WR-CALNAME:Arapahoe/Douglas Works!
X-ORIGINAL-URL:https://www.adworks.org
X-WR-CALDESC:Events for Arapahoe/Douglas Works!
REFRESH-INTERVAL;VALUE=DURATION:PT1H
X-Robots-Tag:noindex
X-PUBLISHED-TTL:PT1H
BEGIN:VTIMEZONE
TZID:America/Denver
BEGIN:DAYLIGHT
TZOFFSETFROM:-0700
TZOFFSETTO:-0600
TZNAME:MDT
DTSTART:20250309T090000
END:DAYLIGHT
BEGIN:STANDARD
TZOFFSETFROM:-0600
TZOFFSETTO:-0700
TZNAME:MST
DTSTART:20251102T080000
END:STANDARD
BEGIN:DAYLIGHT
TZOFFSETFROM:-0700
TZOFFSETTO:-0600
TZNAME:MDT
DTSTART:20260308T090000
END:DAYLIGHT
BEGIN:STANDARD
TZOFFSETFROM:-0600
TZOFFSETTO:-0700
TZNAME:MST
DTSTART:20261101T080000
END:STANDARD
BEGIN:DAYLIGHT
TZOFFSETFROM:-0700
TZOFFSETTO:-0600
TZNAME:MDT
DTSTART:20270314T090000
END:DAYLIGHT
BEGIN:STANDARD
TZOFFSETFROM:-0600
TZOFFSETTO:-0700
TZNAME:MST
DTSTART:20271107T080000
END:STANDARD
END:VTIMEZONE
BEGIN:VEVENT
DTSTART;TZID=America/Denver:20260424T133000
DTEND;TZID=America/Denver:20260424T150000
DTSTAMP:20260420T080538
CREATED:20250813T232353Z
LAST-MODIFIED:20250813T232353Z
UID:10010612-1777037400-1777042800@www.adworks.org
SUMMARY:Navigating Stress (Virtual)
DESCRIPTION:Life can be stressful and searching for a job can increase that stress. Navigating this chapter in your life might be hard to do on your own. This workshop is here to provide you tools you can use to get through these challenging times. Here\, you will learn a range of evidence-based techniques and strategies to help manage stress and improve your overall well-being. \nPlease register for the event on Zoom.  \n 
URL:https://www.adworks.org/event/navigating-stress-virtual-4/2026-04-24/
LOCATION:Virtual\, Virtual
CATEGORIES:Generations@Work,Job Seekers,Veterans,Workshops
END:VEVENT
END:VCALENDAR