BEGIN:VCALENDAR
VERSION:2.0
PRODID:-//Arapahoe/Douglas Works! - ECPv6.15.19//NONSGML v1.0//EN
CALSCALE:GREGORIAN
METHOD:PUBLISH
X-ORIGINAL-URL:https://www.adworks.org
X-WR-CALDESC:Events for Arapahoe/Douglas Works!
REFRESH-INTERVAL;VALUE=DURATION:PT1H
X-Robots-Tag:noindex
X-PUBLISHED-TTL:PT1H
BEGIN:VTIMEZONE
TZID:America/Denver
BEGIN:DAYLIGHT
TZOFFSETFROM:-0700
TZOFFSETTO:-0600
TZNAME:MDT
DTSTART:20250309T090000
END:DAYLIGHT
BEGIN:STANDARD
TZOFFSETFROM:-0600
TZOFFSETTO:-0700
TZNAME:MST
DTSTART:20251102T080000
END:STANDARD
BEGIN:DAYLIGHT
TZOFFSETFROM:-0700
TZOFFSETTO:-0600
TZNAME:MDT
DTSTART:20260308T090000
END:DAYLIGHT
BEGIN:STANDARD
TZOFFSETFROM:-0600
TZOFFSETTO:-0700
TZNAME:MST
DTSTART:20261101T080000
END:STANDARD
BEGIN:DAYLIGHT
TZOFFSETFROM:-0700
TZOFFSETTO:-0600
TZNAME:MDT
DTSTART:20270314T090000
END:DAYLIGHT
BEGIN:STANDARD
TZOFFSETFROM:-0600
TZOFFSETTO:-0700
TZNAME:MST
DTSTART:20271107T080000
END:STANDARD
END:VTIMEZONE
BEGIN:VEVENT
DTSTART;TZID=America/Denver:20260430T100000
DTEND;TZID=America/Denver:20260430T130000
DTSTAMP:20260420T075901
CREATED:20260407T211840Z
LAST-MODIFIED:20260407T211840Z
UID:10011988-1777543200-1777554000@www.adworks.org
SUMMARY:Wyoming and Colorado Regional Job Fair Spring 2026 (In-Person) @ Aurora CentrePoint
DESCRIPTION:WYCO is a collaboration between Workforce Colorado and Workforce Services Wyoming. This registration is for the in-person event at CentrePoint Plaza\, 14980 East Alameda Drive\, Aurora\, Colorado 80012. \nThis employment and networking event will offer residents of Colorado and southeastern Wyoming the opportunity to connect with more than 150 employers who are looking for candidates like you! \nPlease note that there are 8 in-person sites that will be running simultaneously through the States of CO and WY from 10:00 a.m. – 1:00 p.m. and a virtual site running between 12:00 p.m. – 4:00 p.m. the same day. \nAlthough registration is not required to attend the In-Person side\, we ask that you please register for the event to help us expedite your check-in on the day of the event. \nView the List of Attending Employers. \nDownload Flyer
URL:https://www.adworks.org/event/wyoming-and-colorado-regional-job-fair-spring-2026-in-person-aurora-centrepoint/
LOCATION:Aurora CentrePoint Plaza\, 14980 E. Alameda\, Aurora\, CO\, 80012\, United States
CATEGORIES:Generations@Work,Hiring Events,Job Seekers,Veterans
END:VEVENT
BEGIN:VEVENT
DTSTART;TZID=America/Denver:20260430T120000
DTEND;TZID=America/Denver:20260430T160000
DTSTAMP:20260420T075901
CREATED:20260407T212314Z
LAST-MODIFIED:20260407T213243Z
UID:10011989-1777550400-1777564800@www.adworks.org
SUMMARY:Wyoming and Colorado Regional Job Fair Spring 2026 (Virtual)
DESCRIPTION:WYCO is a collaboration between Workforce Colorado and Workforce Services Wyoming. This registration is for the in-person event at CentrePoint Plaza\, 14980 East Alameda Drive\, Aurora\, Colorado 80012. \nThis employment and networking event will offer residents of Colorado and southeastern Wyoming the opportunity to connect with more than 150 employers who are looking for candidates like you! \nPlease note that there are 8 in-person sites that will be running simultaneously through the States of CO and WY from 10:00 a.m. – 1:00 p.m. and a virtual site running between 12:00 p.m. – 4:00 p.m. the same day. \nAlthough registration is not required to attend the In-Person side\, we ask that you please register for the event to help us expedite your check-in on the day of the event. \nView the List of Attending Employers. \nDownload Flyer
URL:https://www.adworks.org/event/wyoming-and-colorado-regional-job-fair-spring-2026-virtual/
LOCATION:Virtual\, Virtual
CATEGORIES:Generations@Work,Hiring Events,Job Seekers,Veterans
END:VEVENT
END:VCALENDAR